BEGIN:VCALENDAR
VERSION:2.0
PRODID:-//jEvents 2.0 for Joomla//EN
CALSCALE:GREGORIAN
METHOD:PUBLISH
BEGIN:VTIMEZONE
TZID:Europe/Berlin
BEGIN:STANDARD
DTSTART:20201101T190000
RDATE:20210328T030000
TZOFFSETFROM:+0200
TZOFFSETTO:+0100
TZNAME:Europe/Berlin CET
END:STANDARD
BEGIN:STANDARD
DTSTART:20211031T020000
RDATE:20220327T030000
TZOFFSETFROM:+0200
TZOFFSETTO:+0100
TZNAME:Europe/Berlin CET
END:STANDARD
BEGIN:STANDARD
DTSTART:20221030T020000
RDATE:20230326T030000
TZOFFSETFROM:+0200
TZOFFSETTO:+0100
TZNAME:Europe/Berlin CET
END:STANDARD
BEGIN:STANDARD
DTSTART:20231029T020000
RDATE:20240331T030000
TZOFFSETFROM:+0200
TZOFFSETTO:+0100
TZNAME:Europe/Berlin CET
END:STANDARD
BEGIN:STANDARD
DTSTART:20241027T020000
RDATE:20250330T030000
TZOFFSETFROM:+0200
TZOFFSETTO:+0100
TZNAME:Europe/Berlin CET
END:STANDARD
BEGIN:STANDARD
DTSTART:20251026T020000
RDATE:20260329T030000
TZOFFSETFROM:+0200
TZOFFSETTO:+0100
TZNAME:Europe/Berlin CET
END:STANDARD
BEGIN:STANDARD
DTSTART:20261025T020000
RDATE:20270328T030000
TZOFFSETFROM:+0200
TZOFFSETTO:+0100
TZNAME:Europe/Berlin CET
END:STANDARD
BEGIN:STANDARD
DTSTART:20271031T020000
RDATE:20280326T030000
TZOFFSETFROM:+0200
TZOFFSETTO:+0100
TZNAME:Europe/Berlin CET
END:STANDARD
BEGIN:STANDARD
DTSTART:20281029T020000
RDATE:20290325T030000
TZOFFSETFROM:+0200
TZOFFSETTO:+0100
TZNAME:Europe/Berlin CET
END:STANDARD
BEGIN:STANDARD
DTSTART:20291028T020000
RDATE:20300331T030000
TZOFFSETFROM:+0200
TZOFFSETTO:+0100
TZNAME:Europe/Berlin CET
END:STANDARD
BEGIN:STANDARD
DTSTART:20301027T020000
RDATE:20310330T030000
TZOFFSETFROM:+0200
TZOFFSETTO:+0100
TZNAME:Europe/Berlin CET
END:STANDARD
BEGIN:STANDARD
DTSTART:20311026T020000
RDATE:20320328T030000
TZOFFSETFROM:+0200
TZOFFSETTO:+0100
TZNAME:Europe/Berlin CET
END:STANDARD
BEGIN:STANDARD
DTSTART:20321031T020000
RDATE:20330327T030000
TZOFFSETFROM:+0200
TZOFFSETTO:+0100
TZNAME:Europe/Berlin CET
END:STANDARD
BEGIN:STANDARD
DTSTART:20331030T020000
RDATE:20340326T030000
TZOFFSETFROM:+0200
TZOFFSETTO:+0100
TZNAME:Europe/Berlin CET
END:STANDARD
BEGIN:STANDARD
DTSTART:20341029T020000
RDATE:20350325T030000
TZOFFSETFROM:+0200
TZOFFSETTO:+0100
TZNAME:Europe/Berlin CET
END:STANDARD
BEGIN:STANDARD
DTSTART:20351028T020000
RDATE:20360330T030000
TZOFFSETFROM:+0200
TZOFFSETTO:+0100
TZNAME:Europe/Berlin CET
END:STANDARD
BEGIN:DAYLIGHT
DTSTART:20210328T030000
RDATE:20211031T020000
TZOFFSETFROM:+0100
TZOFFSETTO:+0200
TZNAME:Europe/Berlin CEST
END:DAYLIGHT
BEGIN:DAYLIGHT
DTSTART:20220327T030000
RDATE:20221030T020000
TZOFFSETFROM:+0100
TZOFFSETTO:+0200
TZNAME:Europe/Berlin CEST
END:DAYLIGHT
BEGIN:DAYLIGHT
DTSTART:20230326T030000
RDATE:20231029T020000
TZOFFSETFROM:+0100
TZOFFSETTO:+0200
TZNAME:Europe/Berlin CEST
END:DAYLIGHT
BEGIN:DAYLIGHT
DTSTART:20240331T030000
RDATE:20241027T020000
TZOFFSETFROM:+0100
TZOFFSETTO:+0200
TZNAME:Europe/Berlin CEST
END:DAYLIGHT
BEGIN:DAYLIGHT
DTSTART:20250330T030000
RDATE:20251026T020000
TZOFFSETFROM:+0100
TZOFFSETTO:+0200
TZNAME:Europe/Berlin CEST
END:DAYLIGHT
BEGIN:DAYLIGHT
DTSTART:20260329T030000
RDATE:20261025T020000
TZOFFSETFROM:+0100
TZOFFSETTO:+0200
TZNAME:Europe/Berlin CEST
END:DAYLIGHT
BEGIN:DAYLIGHT
DTSTART:20270328T030000
RDATE:20271031T020000
TZOFFSETFROM:+0100
TZOFFSETTO:+0200
TZNAME:Europe/Berlin CEST
END:DAYLIGHT
BEGIN:DAYLIGHT
DTSTART:20280326T030000
RDATE:20281029T020000
TZOFFSETFROM:+0100
TZOFFSETTO:+0200
TZNAME:Europe/Berlin CEST
END:DAYLIGHT
BEGIN:DAYLIGHT
DTSTART:20290325T030000
RDATE:20291028T020000
TZOFFSETFROM:+0100
TZOFFSETTO:+0200
TZNAME:Europe/Berlin CEST
END:DAYLIGHT
BEGIN:DAYLIGHT
DTSTART:20300331T030000
RDATE:20301027T020000
TZOFFSETFROM:+0100
TZOFFSETTO:+0200
TZNAME:Europe/Berlin CEST
END:DAYLIGHT
BEGIN:DAYLIGHT
DTSTART:20310330T030000
RDATE:20311026T020000
TZOFFSETFROM:+0100
TZOFFSETTO:+0200
TZNAME:Europe/Berlin CEST
END:DAYLIGHT
BEGIN:DAYLIGHT
DTSTART:20320328T030000
RDATE:20321031T020000
TZOFFSETFROM:+0100
TZOFFSETTO:+0200
TZNAME:Europe/Berlin CEST
END:DAYLIGHT
BEGIN:DAYLIGHT
DTSTART:20330327T030000
RDATE:20331030T020000
TZOFFSETFROM:+0100
TZOFFSETTO:+0200
TZNAME:Europe/Berlin CEST
END:DAYLIGHT
BEGIN:DAYLIGHT
DTSTART:20340326T030000
RDATE:20341029T020000
TZOFFSETFROM:+0100
TZOFFSETTO:+0200
TZNAME:Europe/Berlin CEST
END:DAYLIGHT
BEGIN:DAYLIGHT
DTSTART:20350325T030000
RDATE:20351028T020000
TZOFFSETFROM:+0100
TZOFFSETTO:+0200
TZNAME:Europe/Berlin CEST
END:DAYLIGHT
END:VTIMEZONE
BEGIN:VEVENT
UID:afc69e066cff82a0d3160e459a9ae6d0
CATEGORIES:Gesamtverein
CREATED:20211014T124505
SUMMARY:Vorbesprechung Winterprogramm
DESCRIPTION:Wir treffen uns zur Vorbesprechung und Planung des Winterprogramms. Bitte h
 altet Ideen und euren Terminkalender bereit.\nDieser Termin findet via Zoom
  statt, damit auch die nur an den Onlineterminen teilnehmenden mitplanen kö
 nnen. Der Link folgt in einem Newsletter.\nDas traditionell von den Paddler
 n organisierte Winterprogramm ist ein regelmäßiges Miteinander über die kal
 te Jahreszeit, bei dem alle Vereinsmitglieder willkommen sind. Wir treffen 
 uns am Dienstagabend, vsl. abwechselnd im Bootshaus und Online über Zoom. M
 anche Programmpunkte sind abteilungsspezifisch (Kanu-Fahrtenplanung, Polo-R
 egelabend), aber es gibt viele soziale Veranstaltungen, bei denen alle mitm
 achen können. Beliebten Programmpunkte der letzten Jahre sind u.a. Backen, 
 Liederabend, Fahrtenplanung, Online-Kochkurse, Erste Hilfe, Bilderabend, Ti
 schtennisturnier, Feuerzangenbowle und mehr. Neue Ideen sind immer willkomm
 en. Jeder Abend hat einen wechselnden Ansprechpartner, der die Orga übernim
 mt. Wir freuen uns auf euch!\nAllgemeine Ansprechpartner: Barbara, Julia, H
 annah\n
X-ALT-DESC;FMTTYPE=text/html:<p>Wir treffen uns zur Vorbesprechung und Planung des Winterprogramms. Bitt
 e haltet Ideen und euren Terminkalender bereit.</p><p><strong>Dieser Termin
  findet via Zoom statt, damit auch die nur an den Onlineterminen teilnehmen
 den mitplanen können. Der Link folgt in einem Newsletter.</strong></p><p>Da
 s traditionell von den Paddlern organisierte Winterprogramm ist ein regelmä
 ßiges Miteinander über die kalte Jahreszeit, bei dem alle Vereinsmitglieder
  willkommen sind.&nbsp;Wir treffen uns am Dienstagabend, vsl. abwechselnd i
 m Bootshaus und Online über Zoom.&nbsp;Manche Programmpunkte sind abteilung
 sspezifisch (Kanu-Fahrtenplanung, Polo-Regelabend), aber es gibt viele sozi
 ale Veranstaltungen, bei denen alle mitmachen können.&nbsp;Beliebten Progra
 mmpunkte der letzten Jahre sind u.a. Backen, Liederabend, Fahrtenplanung, O
 nline-Kochkurse, Erste Hilfe, Bilderabend, Tischtennisturnier, Feuerzangenb
 owle und mehr. Neue&nbsp;Ideen sind immer willkommen.&nbsp;Jeder Abend hat 
 einen wechselnden Ansprechpartner, der die Orga übernimmt. Wir freuen uns a
 uf euch!</p><p>Allgemeine Ansprechpartner: Barbara, Julia, Hannah</p>
DTSTAMP:20260424T152600
DTSTART;TZID=Europe/Berlin:20211102T190000
SEQUENCE:0
TRANSP:OPAQUE
END:VEVENT
END:VCALENDAR