BEGIN:VCALENDAR
VERSION:2.0
PRODID:-//jEvents 2.0 for Joomla//EN
CALSCALE:GREGORIAN
METHOD:PUBLISH
BEGIN:VTIMEZONE
TZID:Europe/Berlin
BEGIN:STANDARD
DTSTART:20211031T020000
RDATE:20220327T030000
TZOFFSETFROM:+0200
TZOFFSETTO:+0100
TZNAME:Europe/Berlin CET
END:STANDARD
BEGIN:STANDARD
DTSTART:20221030T020000
RDATE:20230326T030000
TZOFFSETFROM:+0200
TZOFFSETTO:+0100
TZNAME:Europe/Berlin CET
END:STANDARD
BEGIN:STANDARD
DTSTART:20231029T020000
RDATE:20240331T030000
TZOFFSETFROM:+0200
TZOFFSETTO:+0100
TZNAME:Europe/Berlin CET
END:STANDARD
BEGIN:STANDARD
DTSTART:20241027T020000
RDATE:20250330T030000
TZOFFSETFROM:+0200
TZOFFSETTO:+0100
TZNAME:Europe/Berlin CET
END:STANDARD
BEGIN:STANDARD
DTSTART:20251026T020000
RDATE:20260329T030000
TZOFFSETFROM:+0200
TZOFFSETTO:+0100
TZNAME:Europe/Berlin CET
END:STANDARD
BEGIN:STANDARD
DTSTART:20261025T020000
RDATE:20270328T030000
TZOFFSETFROM:+0200
TZOFFSETTO:+0100
TZNAME:Europe/Berlin CET
END:STANDARD
BEGIN:STANDARD
DTSTART:20271031T020000
RDATE:20280326T030000
TZOFFSETFROM:+0200
TZOFFSETTO:+0100
TZNAME:Europe/Berlin CET
END:STANDARD
BEGIN:STANDARD
DTSTART:20281029T020000
RDATE:20290325T030000
TZOFFSETFROM:+0200
TZOFFSETTO:+0100
TZNAME:Europe/Berlin CET
END:STANDARD
BEGIN:STANDARD
DTSTART:20291028T020000
RDATE:20300331T030000
TZOFFSETFROM:+0200
TZOFFSETTO:+0100
TZNAME:Europe/Berlin CET
END:STANDARD
BEGIN:STANDARD
DTSTART:20301027T020000
RDATE:20310330T030000
TZOFFSETFROM:+0200
TZOFFSETTO:+0100
TZNAME:Europe/Berlin CET
END:STANDARD
BEGIN:STANDARD
DTSTART:20311026T020000
RDATE:20320328T030000
TZOFFSETFROM:+0200
TZOFFSETTO:+0100
TZNAME:Europe/Berlin CET
END:STANDARD
BEGIN:STANDARD
DTSTART:20321031T020000
RDATE:20330327T030000
TZOFFSETFROM:+0200
TZOFFSETTO:+0100
TZNAME:Europe/Berlin CET
END:STANDARD
BEGIN:STANDARD
DTSTART:20331030T020000
RDATE:20340326T030000
TZOFFSETFROM:+0200
TZOFFSETTO:+0100
TZNAME:Europe/Berlin CET
END:STANDARD
BEGIN:STANDARD
DTSTART:20341029T020000
RDATE:20350325T030000
TZOFFSETFROM:+0200
TZOFFSETTO:+0100
TZNAME:Europe/Berlin CET
END:STANDARD
BEGIN:STANDARD
DTSTART:20351028T020000
RDATE:20360330T030000
TZOFFSETFROM:+0200
TZOFFSETTO:+0100
TZNAME:Europe/Berlin CET
END:STANDARD
BEGIN:DAYLIGHT
DTSTART:20210603T000000
RDATE:20211031T020000
TZOFFSETFROM:+0100
TZOFFSETTO:+0200
TZNAME:Europe/Berlin CEST
END:DAYLIGHT
BEGIN:DAYLIGHT
DTSTART:20220327T030000
RDATE:20221030T020000
TZOFFSETFROM:+0100
TZOFFSETTO:+0200
TZNAME:Europe/Berlin CEST
END:DAYLIGHT
BEGIN:DAYLIGHT
DTSTART:20230326T030000
RDATE:20231029T020000
TZOFFSETFROM:+0100
TZOFFSETTO:+0200
TZNAME:Europe/Berlin CEST
END:DAYLIGHT
BEGIN:DAYLIGHT
DTSTART:20240331T030000
RDATE:20241027T020000
TZOFFSETFROM:+0100
TZOFFSETTO:+0200
TZNAME:Europe/Berlin CEST
END:DAYLIGHT
BEGIN:DAYLIGHT
DTSTART:20250330T030000
RDATE:20251026T020000
TZOFFSETFROM:+0100
TZOFFSETTO:+0200
TZNAME:Europe/Berlin CEST
END:DAYLIGHT
BEGIN:DAYLIGHT
DTSTART:20260329T030000
RDATE:20261025T020000
TZOFFSETFROM:+0100
TZOFFSETTO:+0200
TZNAME:Europe/Berlin CEST
END:DAYLIGHT
BEGIN:DAYLIGHT
DTSTART:20270328T030000
RDATE:20271031T020000
TZOFFSETFROM:+0100
TZOFFSETTO:+0200
TZNAME:Europe/Berlin CEST
END:DAYLIGHT
BEGIN:DAYLIGHT
DTSTART:20280326T030000
RDATE:20281029T020000
TZOFFSETFROM:+0100
TZOFFSETTO:+0200
TZNAME:Europe/Berlin CEST
END:DAYLIGHT
BEGIN:DAYLIGHT
DTSTART:20290325T030000
RDATE:20291028T020000
TZOFFSETFROM:+0100
TZOFFSETTO:+0200
TZNAME:Europe/Berlin CEST
END:DAYLIGHT
BEGIN:DAYLIGHT
DTSTART:20300331T030000
RDATE:20301027T020000
TZOFFSETFROM:+0100
TZOFFSETTO:+0200
TZNAME:Europe/Berlin CEST
END:DAYLIGHT
BEGIN:DAYLIGHT
DTSTART:20310330T030000
RDATE:20311026T020000
TZOFFSETFROM:+0100
TZOFFSETTO:+0200
TZNAME:Europe/Berlin CEST
END:DAYLIGHT
BEGIN:DAYLIGHT
DTSTART:20320328T030000
RDATE:20321031T020000
TZOFFSETFROM:+0100
TZOFFSETTO:+0200
TZNAME:Europe/Berlin CEST
END:DAYLIGHT
BEGIN:DAYLIGHT
DTSTART:20330327T030000
RDATE:20331030T020000
TZOFFSETFROM:+0100
TZOFFSETTO:+0200
TZNAME:Europe/Berlin CEST
END:DAYLIGHT
BEGIN:DAYLIGHT
DTSTART:20340326T030000
RDATE:20341029T020000
TZOFFSETFROM:+0100
TZOFFSETTO:+0200
TZNAME:Europe/Berlin CEST
END:DAYLIGHT
BEGIN:DAYLIGHT
DTSTART:20350325T030000
RDATE:20351028T020000
TZOFFSETFROM:+0100
TZOFFSETTO:+0200
TZNAME:Europe/Berlin CEST
END:DAYLIGHT
END:VTIMEZONE
BEGIN:VEVENT
UID:b74b018bc8516938348e5ce205517382
CATEGORIES:Fahrten der Kanuabteilung
CREATED:20220204T111228
SUMMARY:Pfingsttour Lienz (WW II-IV)
LOCATION:Amlacher Hof\, Lienz
DESCRIPTION:<h2>Ansprechpartner</h2><p>Volker, Micha</p><h2>Bäche</h2><ul><li>Möll (WW 
 II-III)</li><li>Möll Einstieg Außerfragant: WW 0 bis I. Gemütlicher Wanderb
 ach mit kleinen Schwallpassagen. Landschaftlich lieblich und sehr schön. Di
 stanz: 20km.</li><li>Drau (WW II bis III)<br /><ul><li>Thal bis Amlach. Dis
 tanz: 6 km.</li></ul></li><li>Isel (realistische Abschnitte II-III, III und
  III-IV)<ul><li>Huben bis Lienz: WW II bis III. Reine Schwallstrecke ohne n
 ennenswerte Verblockung. Breiter Bach, der zu jeder Zeit vom Boot aus gut e
 insehbar ist. Distanz: 20km.</li><li>Huben bis Ainet: WW II. Breiter Bach, 
 der zu jeder Zeit vom Boot aus gut einsehbar ist. Distanz: 12km.</li><li>Hi
 nterbichl bis Bobojach</li></ul></li><li>Defereggenbach Standardstrecke bis
  IV<ul><li>St. Jakob bis St. Veit. Distanz: 10km.</li></ul></li><li>Gail (I
 I-III und III-IV)<ul><li>St. Lorenz bis Birnbaum. Distanz: 10km.</li></ul><
 /li><li>Lieser (III und IV)<ul><li>Autobahnbrücke bis Ende Slalomstrecke. D
 istanz: 8km.</li></ul></li><li>Vilgratenbach<ul><li>Innervilgraten bis Auße
 nvilgraten. Distanz: 8 km.</li></ul></li></ul><p>Siehe auch WHW-Tourenberic
 ht</p><ul><li><a href="index.php?option=com_content&amp;view=article&amp;id
 =256:2013-07-20-bis-28-kanu-camp-nikolsdorf-dolomiten-osttirol-oesterreich&
 amp;catid=42:berichte-der-kanuabteilung&amp;Itemid=3615">2013-07-20 bis 28.
  Kanu Camp Nikolsdorf, Dolomiten, Osttirol, Österreich</a></li></ul><h2>Bas
 islager</h2><ul><li><a href="https://www.amlacherhof.at">Amlacher Hof</a></
 li></ul>
X-ALT-DESC;FMTTYPE=text/html:<h2>Ansprechpartner</h2><p>Volker, Micha</p><h2>Bäche</h2><ul><li>Möll (WW 
 II-III)</li><li>Möll Einstieg Außerfragant: WW 0 bis I. Gemütlicher Wanderb
 ach mit kleinen Schwallpassagen. Landschaftlich lieblich und sehr schön. Di
 stanz: 20km.</li><li>Drau (WW II bis III)<br /><ul><li>Thal bis Amlach. Dis
 tanz: 6 km.</li></ul></li><li>Isel (realistische Abschnitte II-III, III und
  III-IV)<ul><li>Huben bis Lienz: WW II bis III. Reine Schwallstrecke ohne n
 ennenswerte Verblockung. Breiter Bach, der zu jeder Zeit vom Boot aus gut e
 insehbar ist. Distanz: 20km.</li><li>Huben bis Ainet: WW II. Breiter Bach, 
 der zu jeder Zeit vom Boot aus gut einsehbar ist. Distanz: 12km.</li><li>Hi
 nterbichl bis Bobojach</li></ul></li><li>Defereggenbach Standardstrecke bis
  IV<ul><li>St. Jakob bis St. Veit. Distanz: 10km.</li></ul></li><li>Gail (I
 I-III und III-IV)<ul><li>St. Lorenz bis Birnbaum. Distanz: 10km.</li></ul><
 /li><li>Lieser (III und IV)<ul><li>Autobahnbrücke bis Ende Slalomstrecke. D
 istanz: 8km.</li></ul></li><li>Vilgratenbach<ul><li>Innervilgraten bis Auße
 nvilgraten. Distanz: 8 km.</li></ul></li></ul><p>Siehe auch WHW-Tourenberic
 ht</p><ul><li><a href="https://segeln-lernen-heidelberg.de/index.php?option
 =com_content&amp;view=article&amp;id=256:2013-07-20-bis-28-kanu-camp-nikols
 dorf-dolomiten-osttirol-oesterreich&amp;catid=42:berichte-der-kanuabteilung
 &amp;Itemid=3615">2013-07-20 bis 28. Kanu Camp Nikolsdorf, Dolomiten, Ostti
 rol, Österreich</a></li></ul><h2>Basislager</h2><ul><li><a href="https://ww
 w.amlacherhof.at">Amlacher Hof</a></li></ul>
DTSTAMP:20260424T091124
DTSTART;TZID=Europe/Berlin;VALUE=DATE:20220604
DTEND;TZID=Europe/Berlin;VALUE=DATE:20220612
SEQUENCE:0
TRANSP:OPAQUE
END:VEVENT
END:VCALENDAR