BEGIN:VCALENDAR
VERSION:2.0
PRODID:-//jEvents 2.0 for Joomla//EN
CALSCALE:GREGORIAN
METHOD:PUBLISH
BEGIN:VTIMEZONE
TZID:Europe/Berlin
BEGIN:STANDARD
DTSTART:20211031T020000
RDATE:20220327T030000
TZOFFSETFROM:+0200
TZOFFSETTO:+0100
TZNAME:Europe/Berlin CET
END:STANDARD
BEGIN:STANDARD
DTSTART:20221030T020000
RDATE:20230326T030000
TZOFFSETFROM:+0200
TZOFFSETTO:+0100
TZNAME:Europe/Berlin CET
END:STANDARD
BEGIN:STANDARD
DTSTART:20231029T020000
RDATE:20240331T030000
TZOFFSETFROM:+0200
TZOFFSETTO:+0100
TZNAME:Europe/Berlin CET
END:STANDARD
BEGIN:STANDARD
DTSTART:20241027T020000
RDATE:20250330T030000
TZOFFSETFROM:+0200
TZOFFSETTO:+0100
TZNAME:Europe/Berlin CET
END:STANDARD
BEGIN:STANDARD
DTSTART:20251026T020000
RDATE:20260329T030000
TZOFFSETFROM:+0200
TZOFFSETTO:+0100
TZNAME:Europe/Berlin CET
END:STANDARD
BEGIN:STANDARD
DTSTART:20261025T020000
RDATE:20270328T030000
TZOFFSETFROM:+0200
TZOFFSETTO:+0100
TZNAME:Europe/Berlin CET
END:STANDARD
BEGIN:STANDARD
DTSTART:20271031T020000
RDATE:20280326T030000
TZOFFSETFROM:+0200
TZOFFSETTO:+0100
TZNAME:Europe/Berlin CET
END:STANDARD
BEGIN:STANDARD
DTSTART:20281029T020000
RDATE:20290325T030000
TZOFFSETFROM:+0200
TZOFFSETTO:+0100
TZNAME:Europe/Berlin CET
END:STANDARD
BEGIN:STANDARD
DTSTART:20291028T020000
RDATE:20300331T030000
TZOFFSETFROM:+0200
TZOFFSETTO:+0100
TZNAME:Europe/Berlin CET
END:STANDARD
BEGIN:STANDARD
DTSTART:20301027T020000
RDATE:20310330T030000
TZOFFSETFROM:+0200
TZOFFSETTO:+0100
TZNAME:Europe/Berlin CET
END:STANDARD
BEGIN:STANDARD
DTSTART:20311026T020000
RDATE:20320328T030000
TZOFFSETFROM:+0200
TZOFFSETTO:+0100
TZNAME:Europe/Berlin CET
END:STANDARD
BEGIN:STANDARD
DTSTART:20321031T020000
RDATE:20330327T030000
TZOFFSETFROM:+0200
TZOFFSETTO:+0100
TZNAME:Europe/Berlin CET
END:STANDARD
BEGIN:STANDARD
DTSTART:20331030T020000
RDATE:20340326T030000
TZOFFSETFROM:+0200
TZOFFSETTO:+0100
TZNAME:Europe/Berlin CET
END:STANDARD
BEGIN:STANDARD
DTSTART:20341029T020000
RDATE:20350325T030000
TZOFFSETFROM:+0200
TZOFFSETTO:+0100
TZNAME:Europe/Berlin CET
END:STANDARD
BEGIN:STANDARD
DTSTART:20351028T020000
RDATE:20360330T030000
TZOFFSETFROM:+0200
TZOFFSETTO:+0100
TZNAME:Europe/Berlin CET
END:STANDARD
BEGIN:DAYLIGHT
DTSTART:20210527T000000
RDATE:20211031T020000
TZOFFSETFROM:+0100
TZOFFSETTO:+0200
TZNAME:Europe/Berlin CEST
END:DAYLIGHT
BEGIN:DAYLIGHT
DTSTART:20220327T030000
RDATE:20221030T020000
TZOFFSETFROM:+0100
TZOFFSETTO:+0200
TZNAME:Europe/Berlin CEST
END:DAYLIGHT
BEGIN:DAYLIGHT
DTSTART:20230326T030000
RDATE:20231029T020000
TZOFFSETFROM:+0100
TZOFFSETTO:+0200
TZNAME:Europe/Berlin CEST
END:DAYLIGHT
BEGIN:DAYLIGHT
DTSTART:20240331T030000
RDATE:20241027T020000
TZOFFSETFROM:+0100
TZOFFSETTO:+0200
TZNAME:Europe/Berlin CEST
END:DAYLIGHT
BEGIN:DAYLIGHT
DTSTART:20250330T030000
RDATE:20251026T020000
TZOFFSETFROM:+0100
TZOFFSETTO:+0200
TZNAME:Europe/Berlin CEST
END:DAYLIGHT
BEGIN:DAYLIGHT
DTSTART:20260329T030000
RDATE:20261025T020000
TZOFFSETFROM:+0100
TZOFFSETTO:+0200
TZNAME:Europe/Berlin CEST
END:DAYLIGHT
BEGIN:DAYLIGHT
DTSTART:20270328T030000
RDATE:20271031T020000
TZOFFSETFROM:+0100
TZOFFSETTO:+0200
TZNAME:Europe/Berlin CEST
END:DAYLIGHT
BEGIN:DAYLIGHT
DTSTART:20280326T030000
RDATE:20281029T020000
TZOFFSETFROM:+0100
TZOFFSETTO:+0200
TZNAME:Europe/Berlin CEST
END:DAYLIGHT
BEGIN:DAYLIGHT
DTSTART:20290325T030000
RDATE:20291028T020000
TZOFFSETFROM:+0100
TZOFFSETTO:+0200
TZNAME:Europe/Berlin CEST
END:DAYLIGHT
BEGIN:DAYLIGHT
DTSTART:20300331T030000
RDATE:20301027T020000
TZOFFSETFROM:+0100
TZOFFSETTO:+0200
TZNAME:Europe/Berlin CEST
END:DAYLIGHT
BEGIN:DAYLIGHT
DTSTART:20310330T030000
RDATE:20311026T020000
TZOFFSETFROM:+0100
TZOFFSETTO:+0200
TZNAME:Europe/Berlin CEST
END:DAYLIGHT
BEGIN:DAYLIGHT
DTSTART:20320328T030000
RDATE:20321031T020000
TZOFFSETFROM:+0100
TZOFFSETTO:+0200
TZNAME:Europe/Berlin CEST
END:DAYLIGHT
BEGIN:DAYLIGHT
DTSTART:20330327T030000
RDATE:20331030T020000
TZOFFSETFROM:+0100
TZOFFSETTO:+0200
TZNAME:Europe/Berlin CEST
END:DAYLIGHT
BEGIN:DAYLIGHT
DTSTART:20340326T030000
RDATE:20341029T020000
TZOFFSETFROM:+0100
TZOFFSETTO:+0200
TZNAME:Europe/Berlin CEST
END:DAYLIGHT
BEGIN:DAYLIGHT
DTSTART:20350325T030000
RDATE:20351028T020000
TZOFFSETFROM:+0100
TZOFFSETTO:+0200
TZNAME:Europe/Berlin CEST
END:DAYLIGHT
END:VTIMEZONE
BEGIN:VEVENT
UID:fb3d7e052a172a2c2bfa3a5d8ff9998b
CATEGORIES:Warnmeldungen
CREATED:20220211T132026
SUMMARY:Neckarsperre Ruderregatta
LOCATION:Zwischen der Ernst-Walz-Brücke (Km 23\,0) und der Alten Brücke (Km 25\,5)
DESCRIPTION:Der Neckar ist zwischen der Ernst-Walz-Brücke und der Alten Brücke wegen ei
 ner Ruder-Regatta gesperrt. Die Schifffahrt ist zwischen km 23,04 und km 25
 ,45 am 28.05.2022 von 9 Uhr -11 Uhr, von 12 Uhr -14 Uhr, von 15 Uhr -17 Uhr
  und von 18 Uhr bis 20 Uhr gesperrt.\nAm 29.05.22 von 8 Uhr - 9:30 Uhr, von
  10:15 Uhr -11:45 Uhr, von 12:30 Uhr -14:30 Uhr und von 15:30 Uhr -18 Uhr g
 esperrt.\nEin Anlegen an -, bzw. ein Ablegen von der Steigeranlage bei Km 2
 4,155 (WHW, MYC) ist während der gesamten Veranstaltung nicht möglich.\nWas
 serstraße:      Neckarkm von:            23,0 (49° 24.661' N 8° 40.571' E)k
 m bis:            25,5 (49° 24.843' N 8° 42.612' E)Örtlichkeit:       Fahrw
 asser NeckarEinschränkung:     SperreZielgruppe:         alleRichtung:     
       alle RichtungenBetroffener Bereich: ganzgültig von:        28. Mai 20
 22  09:00 Uhrgültig bis:        28. Mai 2022  11:00 Uhrgültig von:        2
 8. Mai 2022  12:00 Uhrgültig bis:        28. Mai 2022  14:00 Uhrgültig von:
         28. Mai 2022  15:00 Uhrgültig bis:        28. Mai 2022  17:00 Uhrgü
 ltig von:        28. Mai 2022  18:00 Uhrgültig bis:        28. Mai 2022  20
 :00 Uhrgültig von:        29. Mai 2022  08:00 Uhrgültig bis:        29. Mai
  2022  09:30 Uhrgültig von:        29. Mai 2022  10:15 Uhrgültig bis:      
   29. Mai 2022  11:45 Uhrgültig von:        29. Mai 2022  12:30 Uhrgültig b
 is:        29. Mai 2022  14:30 Uhrgültig von:        29. Mai 2022  15:30 Uh
 rgültig bis:        29. Mai 2022  18:00 UhrQuelle: ELWIS (https://www.elwis
 .de/DE/dynamisch/mvc/main.php?modul=nfb&amp;action=searchOne&amp;LANGUAGE=D
 E&amp;NFB_ID=0949/2022)\n
X-ALT-DESC;FMTTYPE=text/html:<p>Der Neckar ist zwischen der Ernst-Walz-Brücke und der Alten Brücke wegen
  einer Ruder-Regatta gesperrt. Die Schifffahrt ist zwischen km 23,04 und km
  25,45 am 28.05.2022 von 9 Uhr -11 Uhr, von 12 Uhr -14 Uhr, von 15 Uhr -17 
 Uhr und von 18 Uhr bis 20 Uhr gesperrt.</p><p>Am 29.05.22 von 8 Uhr - 9:30 
 Uhr, von 10:15 Uhr -11:45 Uhr, von 12:30 Uhr -14:30 Uhr und von 15:30 Uhr -
 18 Uhr gesperrt.</p><p>Ein Anlegen an -, bzw. ein Ablegen von der Steigeran
 lage bei Km 24,155 (WHW, MYC) ist während der gesamten Veranstaltung nicht 
 möglich.</p><pre>Wasserstraße:      Neckarkm von:            23,0 (49° 24.6
 61' N 8° 40.571' E)km bis:            25,5 (49° 24.843' N 8° 42.612' E)Örtl
 ichkeit:       Fahrwasser NeckarEinschränkung:     SperreZielgruppe:       
   alleRichtung:           alle RichtungenBetroffener Bereich: ganzgültig vo
 n:        28. Mai 2022  09:00 Uhrgültig bis:        28. Mai 2022  11:00 Uhr
 gültig von:        28. Mai 2022  12:00 Uhrgültig bis:        28. Mai 2022  
 14:00 Uhrgültig von:        28. Mai 2022  15:00 Uhrgültig bis:        28. M
 ai 2022  17:00 Uhrgültig von:        28. Mai 2022  18:00 Uhrgültig bis:    
     28. Mai 2022  20:00 Uhrgültig von:        29. Mai 2022  08:00 Uhrgültig
  bis:        29. Mai 2022  09:30 Uhrgültig von:        29. Mai 2022  10:15 
 Uhrgültig bis:        29. Mai 2022  11:45 Uhrgültig von:        29. Mai 202
 2  12:30 Uhrgültig bis:        29. Mai 2022  14:30 Uhrgültig von:        29
 . Mai 2022  15:30 Uhrgültig bis:        29. Mai 2022  18:00 Uhr</pre><p>Que
 lle: <a href="https://www.elwis.de/DE/dynamisch/mvc/main.php?modul=nfb&amp;
 action=searchOne&amp;LANGUAGE=DE&amp;NFB_ID=0949/2022">ELWIS</a></p>
DTSTAMP:20260422T222315
DTSTART;TZID=Europe/Berlin;VALUE=DATE:20220528
DTEND;TZID=Europe/Berlin;VALUE=DATE:20220530
SEQUENCE:0
TRANSP:OPAQUE
END:VEVENT
END:VCALENDAR