BEGIN:VCALENDAR
VERSION:2.0
PRODID:-//jEvents 2.0 for Joomla//EN
CALSCALE:GREGORIAN
METHOD:PUBLISH
BEGIN:VTIMEZONE
TZID:Europe/Berlin
BEGIN:STANDARD
DTSTART:20211031T020000
RDATE:20220327T030000
TZOFFSETFROM:+0200
TZOFFSETTO:+0100
TZNAME:Europe/Berlin CET
END:STANDARD
BEGIN:STANDARD
DTSTART:20221030T020000
RDATE:20230326T030000
TZOFFSETFROM:+0200
TZOFFSETTO:+0100
TZNAME:Europe/Berlin CET
END:STANDARD
BEGIN:STANDARD
DTSTART:20231029T020000
RDATE:20240331T030000
TZOFFSETFROM:+0200
TZOFFSETTO:+0100
TZNAME:Europe/Berlin CET
END:STANDARD
BEGIN:STANDARD
DTSTART:20241027T020000
RDATE:20250330T030000
TZOFFSETFROM:+0200
TZOFFSETTO:+0100
TZNAME:Europe/Berlin CET
END:STANDARD
BEGIN:STANDARD
DTSTART:20251026T020000
RDATE:20260329T030000
TZOFFSETFROM:+0200
TZOFFSETTO:+0100
TZNAME:Europe/Berlin CET
END:STANDARD
BEGIN:STANDARD
DTSTART:20261025T020000
RDATE:20270328T030000
TZOFFSETFROM:+0200
TZOFFSETTO:+0100
TZNAME:Europe/Berlin CET
END:STANDARD
BEGIN:STANDARD
DTSTART:20271031T020000
RDATE:20280326T030000
TZOFFSETFROM:+0200
TZOFFSETTO:+0100
TZNAME:Europe/Berlin CET
END:STANDARD
BEGIN:STANDARD
DTSTART:20281029T020000
RDATE:20290325T030000
TZOFFSETFROM:+0200
TZOFFSETTO:+0100
TZNAME:Europe/Berlin CET
END:STANDARD
BEGIN:STANDARD
DTSTART:20291028T020000
RDATE:20300331T030000
TZOFFSETFROM:+0200
TZOFFSETTO:+0100
TZNAME:Europe/Berlin CET
END:STANDARD
BEGIN:STANDARD
DTSTART:20301027T020000
RDATE:20310330T030000
TZOFFSETFROM:+0200
TZOFFSETTO:+0100
TZNAME:Europe/Berlin CET
END:STANDARD
BEGIN:STANDARD
DTSTART:20311026T020000
RDATE:20320328T030000
TZOFFSETFROM:+0200
TZOFFSETTO:+0100
TZNAME:Europe/Berlin CET
END:STANDARD
BEGIN:STANDARD
DTSTART:20321031T020000
RDATE:20330327T030000
TZOFFSETFROM:+0200
TZOFFSETTO:+0100
TZNAME:Europe/Berlin CET
END:STANDARD
BEGIN:STANDARD
DTSTART:20331030T020000
RDATE:20340326T030000
TZOFFSETFROM:+0200
TZOFFSETTO:+0100
TZNAME:Europe/Berlin CET
END:STANDARD
BEGIN:STANDARD
DTSTART:20341029T020000
RDATE:20350325T030000
TZOFFSETFROM:+0200
TZOFFSETTO:+0100
TZNAME:Europe/Berlin CET
END:STANDARD
BEGIN:STANDARD
DTSTART:20351028T020000
RDATE:20360330T030000
TZOFFSETFROM:+0200
TZOFFSETTO:+0100
TZNAME:Europe/Berlin CET
END:STANDARD
BEGIN:DAYLIGHT
DTSTART:20210618T140000
RDATE:20211031T020000
TZOFFSETFROM:+0100
TZOFFSETTO:+0200
TZNAME:Europe/Berlin CEST
END:DAYLIGHT
BEGIN:DAYLIGHT
DTSTART:20220327T030000
RDATE:20221030T020000
TZOFFSETFROM:+0100
TZOFFSETTO:+0200
TZNAME:Europe/Berlin CEST
END:DAYLIGHT
BEGIN:DAYLIGHT
DTSTART:20230326T030000
RDATE:20231029T020000
TZOFFSETFROM:+0100
TZOFFSETTO:+0200
TZNAME:Europe/Berlin CEST
END:DAYLIGHT
BEGIN:DAYLIGHT
DTSTART:20240331T030000
RDATE:20241027T020000
TZOFFSETFROM:+0100
TZOFFSETTO:+0200
TZNAME:Europe/Berlin CEST
END:DAYLIGHT
BEGIN:DAYLIGHT
DTSTART:20250330T030000
RDATE:20251026T020000
TZOFFSETFROM:+0100
TZOFFSETTO:+0200
TZNAME:Europe/Berlin CEST
END:DAYLIGHT
BEGIN:DAYLIGHT
DTSTART:20260329T030000
RDATE:20261025T020000
TZOFFSETFROM:+0100
TZOFFSETTO:+0200
TZNAME:Europe/Berlin CEST
END:DAYLIGHT
BEGIN:DAYLIGHT
DTSTART:20270328T030000
RDATE:20271031T020000
TZOFFSETFROM:+0100
TZOFFSETTO:+0200
TZNAME:Europe/Berlin CEST
END:DAYLIGHT
BEGIN:DAYLIGHT
DTSTART:20280326T030000
RDATE:20281029T020000
TZOFFSETFROM:+0100
TZOFFSETTO:+0200
TZNAME:Europe/Berlin CEST
END:DAYLIGHT
BEGIN:DAYLIGHT
DTSTART:20290325T030000
RDATE:20291028T020000
TZOFFSETFROM:+0100
TZOFFSETTO:+0200
TZNAME:Europe/Berlin CEST
END:DAYLIGHT
BEGIN:DAYLIGHT
DTSTART:20300331T030000
RDATE:20301027T020000
TZOFFSETFROM:+0100
TZOFFSETTO:+0200
TZNAME:Europe/Berlin CEST
END:DAYLIGHT
BEGIN:DAYLIGHT
DTSTART:20310330T030000
RDATE:20311026T020000
TZOFFSETFROM:+0100
TZOFFSETTO:+0200
TZNAME:Europe/Berlin CEST
END:DAYLIGHT
BEGIN:DAYLIGHT
DTSTART:20320328T030000
RDATE:20321031T020000
TZOFFSETFROM:+0100
TZOFFSETTO:+0200
TZNAME:Europe/Berlin CEST
END:DAYLIGHT
BEGIN:DAYLIGHT
DTSTART:20330327T030000
RDATE:20331030T020000
TZOFFSETFROM:+0100
TZOFFSETTO:+0200
TZNAME:Europe/Berlin CEST
END:DAYLIGHT
BEGIN:DAYLIGHT
DTSTART:20340326T030000
RDATE:20341029T020000
TZOFFSETFROM:+0100
TZOFFSETTO:+0200
TZNAME:Europe/Berlin CEST
END:DAYLIGHT
BEGIN:DAYLIGHT
DTSTART:20350325T030000
RDATE:20351028T020000
TZOFFSETFROM:+0100
TZOFFSETTO:+0200
TZNAME:Europe/Berlin CEST
END:DAYLIGHT
END:VTIMEZONE
BEGIN:VEVENT
UID:28abae8a049a366d2dfd5b8ebfe955d3
CATEGORIES:Warnmeldungen
CREATED:20220529T172251
SUMMARY:Sperrung des Neckars wegen einer Veranstaltung
DESCRIPTION:Am 19.06.2022 von 11 h bis 19 h finden verschiedene Aktionen im Stadtgebiet
  Heidelberg statt. Von 14 h -17:15 h ist der Bereich Km 24,25 und Km 24,05 
 am geographisch rechtes Ufer außerhalb der Fahrrine für die Schifffahrt ges
 perrt. Das Stadtgebiet Heidelberg ist mit erhöhter Aufmerksamkeit zu durchf
 ahren, Sog- und Wellenschlag sind zu vermeiden. Ein Anlegen an- bzw. ein Ab
 legen von- der Steigeranlage bei Ne-Km 24,155 (geographisch rechtes Ufer) i
 st während der Sperrzeiten nicht möglich.\nkm von:            24,0 (49° 24.
 705' N 8° 41.393' E)km bis:            24,3 (49° 24.733' N 8° 41.637' E)Ört
 lichkeit:       Fahrwasser geographisch rechtes UferRichtung:           all
 e RichtungenBetroffener Bereich: ganzgültig von:        19. Jun. 2022  14:0
 0 Uhrgültig bis:        19. Jun. 2022  17:15 UhrQuelle: ELWIS (https://www.
 elwis.de/DE/dynamisch/mvc/main.php?modul=nfb&amp;action=searchOne&amp;LANGU
 AGE=DE&amp;NFB_ID=1088/2022)\n
X-ALT-DESC;FMTTYPE=text/html:<p>Am 19.06.2022 von 11 h bis 19 h finden verschiedene Aktionen im Stadtgeb
 iet Heidelberg statt. Von 14 h -17:15 h ist der Bereich Km 24,25 und Km 24,
 05 am geographisch rechtes Ufer außerhalb der Fahrrine für die Schifffahrt 
 gesperrt. Das Stadtgebiet Heidelberg ist mit erhöhter Aufmerksamkeit zu dur
 chfahren, Sog- und Wellenschlag sind zu vermeiden. Ein Anlegen an- bzw. ein
  Ablegen von- der Steigeranlage bei Ne-Km 24,155 (geographisch rechtes Ufer
 ) ist während der Sperrzeiten nicht möglich.</p><pre>km von:            24,
 0 (49° 24.705' N 8° 41.393' E)km bis:            24,3 (49° 24.733' N 8° 41.
 637' E)Örtlichkeit:       Fahrwasser geographisch rechtes UferRichtung:    
        alle RichtungenBetroffener Bereich: ganzgültig von:        19. Jun. 
 2022  14:00 Uhrgültig bis:        19. Jun. 2022  17:15 Uhr</pre><p>Quelle: 
 <a href="https://www.elwis.de/DE/dynamisch/mvc/main.php?modul=nfb&amp;actio
 n=searchOne&amp;LANGUAGE=DE&amp;NFB_ID=1088/2022">ELWIS</a></p>
DTSTAMP:20260422T113536
DTSTART;TZID=Europe/Berlin:20220619T140000
DTEND;TZID=Europe/Berlin:20220619T171500
SEQUENCE:0
TRANSP:OPAQUE
END:VEVENT
END:VCALENDAR