BEGIN:VCALENDAR
VERSION:2.0
PRODID:-//jEvents 2.0 for Joomla//EN
CALSCALE:GREGORIAN
METHOD:PUBLISH
BEGIN:VTIMEZONE
TZID:Europe/Berlin
BEGIN:STANDARD
DTSTART:20211031T020000
RDATE:20220327T030000
TZOFFSETFROM:+0200
TZOFFSETTO:+0100
TZNAME:Europe/Berlin CET
END:STANDARD
BEGIN:STANDARD
DTSTART:20221030T020000
RDATE:20230326T030000
TZOFFSETFROM:+0200
TZOFFSETTO:+0100
TZNAME:Europe/Berlin CET
END:STANDARD
BEGIN:STANDARD
DTSTART:20231029T020000
RDATE:20240331T030000
TZOFFSETFROM:+0200
TZOFFSETTO:+0100
TZNAME:Europe/Berlin CET
END:STANDARD
BEGIN:STANDARD
DTSTART:20241027T020000
RDATE:20250330T030000
TZOFFSETFROM:+0200
TZOFFSETTO:+0100
TZNAME:Europe/Berlin CET
END:STANDARD
BEGIN:STANDARD
DTSTART:20251026T020000
RDATE:20260329T030000
TZOFFSETFROM:+0200
TZOFFSETTO:+0100
TZNAME:Europe/Berlin CET
END:STANDARD
BEGIN:STANDARD
DTSTART:20261025T020000
RDATE:20270328T030000
TZOFFSETFROM:+0200
TZOFFSETTO:+0100
TZNAME:Europe/Berlin CET
END:STANDARD
BEGIN:STANDARD
DTSTART:20271031T020000
RDATE:20280326T030000
TZOFFSETFROM:+0200
TZOFFSETTO:+0100
TZNAME:Europe/Berlin CET
END:STANDARD
BEGIN:STANDARD
DTSTART:20281029T020000
RDATE:20290325T030000
TZOFFSETFROM:+0200
TZOFFSETTO:+0100
TZNAME:Europe/Berlin CET
END:STANDARD
BEGIN:STANDARD
DTSTART:20291028T020000
RDATE:20300331T030000
TZOFFSETFROM:+0200
TZOFFSETTO:+0100
TZNAME:Europe/Berlin CET
END:STANDARD
BEGIN:STANDARD
DTSTART:20301027T020000
RDATE:20310330T030000
TZOFFSETFROM:+0200
TZOFFSETTO:+0100
TZNAME:Europe/Berlin CET
END:STANDARD
BEGIN:STANDARD
DTSTART:20311026T020000
RDATE:20320328T030000
TZOFFSETFROM:+0200
TZOFFSETTO:+0100
TZNAME:Europe/Berlin CET
END:STANDARD
BEGIN:STANDARD
DTSTART:20321031T020000
RDATE:20330327T030000
TZOFFSETFROM:+0200
TZOFFSETTO:+0100
TZNAME:Europe/Berlin CET
END:STANDARD
BEGIN:STANDARD
DTSTART:20331030T020000
RDATE:20340326T030000
TZOFFSETFROM:+0200
TZOFFSETTO:+0100
TZNAME:Europe/Berlin CET
END:STANDARD
BEGIN:STANDARD
DTSTART:20341029T020000
RDATE:20350325T030000
TZOFFSETFROM:+0200
TZOFFSETTO:+0100
TZNAME:Europe/Berlin CET
END:STANDARD
BEGIN:STANDARD
DTSTART:20351028T020000
RDATE:20360330T030000
TZOFFSETFROM:+0200
TZOFFSETTO:+0100
TZNAME:Europe/Berlin CET
END:STANDARD
BEGIN:DAYLIGHT
DTSTART:20210722T140000
RDATE:20211031T020000
TZOFFSETFROM:+0100
TZOFFSETTO:+0200
TZNAME:Europe/Berlin CEST
END:DAYLIGHT
BEGIN:DAYLIGHT
DTSTART:20220327T030000
RDATE:20221030T020000
TZOFFSETFROM:+0100
TZOFFSETTO:+0200
TZNAME:Europe/Berlin CEST
END:DAYLIGHT
BEGIN:DAYLIGHT
DTSTART:20230326T030000
RDATE:20231029T020000
TZOFFSETFROM:+0100
TZOFFSETTO:+0200
TZNAME:Europe/Berlin CEST
END:DAYLIGHT
BEGIN:DAYLIGHT
DTSTART:20240331T030000
RDATE:20241027T020000
TZOFFSETFROM:+0100
TZOFFSETTO:+0200
TZNAME:Europe/Berlin CEST
END:DAYLIGHT
BEGIN:DAYLIGHT
DTSTART:20250330T030000
RDATE:20251026T020000
TZOFFSETFROM:+0100
TZOFFSETTO:+0200
TZNAME:Europe/Berlin CEST
END:DAYLIGHT
BEGIN:DAYLIGHT
DTSTART:20260329T030000
RDATE:20261025T020000
TZOFFSETFROM:+0100
TZOFFSETTO:+0200
TZNAME:Europe/Berlin CEST
END:DAYLIGHT
BEGIN:DAYLIGHT
DTSTART:20270328T030000
RDATE:20271031T020000
TZOFFSETFROM:+0100
TZOFFSETTO:+0200
TZNAME:Europe/Berlin CEST
END:DAYLIGHT
BEGIN:DAYLIGHT
DTSTART:20280326T030000
RDATE:20281029T020000
TZOFFSETFROM:+0100
TZOFFSETTO:+0200
TZNAME:Europe/Berlin CEST
END:DAYLIGHT
BEGIN:DAYLIGHT
DTSTART:20290325T030000
RDATE:20291028T020000
TZOFFSETFROM:+0100
TZOFFSETTO:+0200
TZNAME:Europe/Berlin CEST
END:DAYLIGHT
BEGIN:DAYLIGHT
DTSTART:20300331T030000
RDATE:20301027T020000
TZOFFSETFROM:+0100
TZOFFSETTO:+0200
TZNAME:Europe/Berlin CEST
END:DAYLIGHT
BEGIN:DAYLIGHT
DTSTART:20310330T030000
RDATE:20311026T020000
TZOFFSETFROM:+0100
TZOFFSETTO:+0200
TZNAME:Europe/Berlin CEST
END:DAYLIGHT
BEGIN:DAYLIGHT
DTSTART:20320328T030000
RDATE:20321031T020000
TZOFFSETFROM:+0100
TZOFFSETTO:+0200
TZNAME:Europe/Berlin CEST
END:DAYLIGHT
BEGIN:DAYLIGHT
DTSTART:20330327T030000
RDATE:20331030T020000
TZOFFSETFROM:+0100
TZOFFSETTO:+0200
TZNAME:Europe/Berlin CEST
END:DAYLIGHT
BEGIN:DAYLIGHT
DTSTART:20340326T030000
RDATE:20341029T020000
TZOFFSETFROM:+0100
TZOFFSETTO:+0200
TZNAME:Europe/Berlin CEST
END:DAYLIGHT
BEGIN:DAYLIGHT
DTSTART:20350325T030000
RDATE:20351028T020000
TZOFFSETFROM:+0100
TZOFFSETTO:+0200
TZNAME:Europe/Berlin CEST
END:DAYLIGHT
END:VTIMEZONE
BEGIN:VEVENT
UID:047e29703b9bbda1708713ddaca36cc8
CATEGORIES:Warnmeldungen
CREATED:20220529T172936
SUMMARY:Sperrung des Neckar zwischen der Theodor-Heuss-Brücke und der Alten Brücke wegen einer Veranstaltung
LOCATION:km 23\,04 (Ernst-Walz-Brücke) und km 24\,2 (Theodor-Heuss-Brücke)
DESCRIPTION:Aufgrund einer Veranstaltung wird die Schifffahrt zwischen km 23,04 (Ernst-
 Walz-Brücke) und km 24,2 (Theodor-Heuss-Brücke) am Samstag den 23.07.2022 v
 on 14 h bis 16 h sowie 17 h bis 19 h und am Sonntag den 24.07.2022 von 09 h
  bis 11 h sowie 12 h bis 14 h und 15 h bis 17 h gesperrt.\nkm von:         
    23,0 (49° 24.661' N 8° 40.571' E)km bis:            24,2 (49° 24.721' N 
 8° 41.556' E)Örtlichkeit:       Fahrwasser NeckarEinschränkung:     SperreZ
 ielgruppe:         alleRichtung:           alle RichtungenBetroffener Berei
 ch: ganzgültig von:        23. Jul. 2022  14:00 Uhrgültig bis:        23. J
 ul. 2022  16:00 Uhrgültig von:        23. Jul. 2022  17:00 Uhrgültig bis:  
       23. Jul. 2022  19:00 Uhrgültig von:        24. Jul. 2022  09:00 Uhrgü
 ltig bis:        24. Jul. 2022  11:00 Uhrgültig von:        24. Jul. 2022  
 12:00 Uhrgültig bis:        24. Jul. 2022  14:00 Uhrgültig von:        24. 
 Jul. 2022  15:00 Uhrgültig bis:        24. Jul. 2022  17:00 UhrQuelle: ELWI
 S (https://www.elwis.de/DE/dynamisch/mvc/main.php?modul=nfb&amp;action=sear
 chOne&amp;LANGUAGE=DE&amp;NFB_ID=1087/2022)\n
X-ALT-DESC;FMTTYPE=text/html:<p>Aufgrund einer Veranstaltung wird die Schifffahrt zwischen km 23,04 (Ern
 st-Walz-Brücke) und km 24,2 (Theodor-Heuss-Brücke) am Samstag den 23.07.202
 2 von 14 h bis 16 h sowie 17 h bis 19 h und am Sonntag den 24.07.2022 von 0
 9 h bis 11 h sowie 12 h bis 14 h und 15 h bis 17 h gesperrt.</p><pre>km von
 :            23,0 (49° 24.661' N 8° 40.571' E)km bis:            24,2 (49° 
 24.721' N 8° 41.556' E)Örtlichkeit:       Fahrwasser NeckarEinschränkung:  
    SperreZielgruppe:         alleRichtung:           alle RichtungenBetroff
 ener Bereich: ganzgültig von:        23. Jul. 2022  14:00 Uhrgültig bis:   
      23. Jul. 2022  16:00 Uhrgültig von:        23. Jul. 2022  17:00 Uhrgül
 tig bis:        23. Jul. 2022  19:00 Uhrgültig von:        24. Jul. 2022  0
 9:00 Uhrgültig bis:        24. Jul. 2022  11:00 Uhrgültig von:        24. J
 ul. 2022  12:00 Uhrgültig bis:        24. Jul. 2022  14:00 Uhrgültig von:  
       24. Jul. 2022  15:00 Uhrgültig bis:        24. Jul. 2022  17:00 Uhr</
 pre><p>Quelle: <a href="https://www.elwis.de/DE/dynamisch/mvc/main.php?modu
 l=nfb&amp;action=searchOne&amp;LANGUAGE=DE&amp;NFB_ID=1087/2022">ELWIS</a><
 /p>
DTSTAMP:20260422T113938
DTSTART;TZID=Europe/Berlin:20220723T140000
DTEND;TZID=Europe/Berlin:20220724T170000
SEQUENCE:0
TRANSP:OPAQUE
END:VEVENT
END:VCALENDAR