BEGIN:VCALENDAR
VERSION:2.0
PRODID:-//jEvents 2.0 for Joomla//EN
CALSCALE:GREGORIAN
METHOD:PUBLISH
BEGIN:VTIMEZONE
TZID:Europe/Berlin
BEGIN:STANDARD
DTSTART:20221030T020000
RDATE:20230326T030000
TZOFFSETFROM:+0200
TZOFFSETTO:+0100
TZNAME:Europe/Berlin CET
END:STANDARD
BEGIN:STANDARD
DTSTART:20231029T020000
RDATE:20240331T030000
TZOFFSETFROM:+0200
TZOFFSETTO:+0100
TZNAME:Europe/Berlin CET
END:STANDARD
BEGIN:STANDARD
DTSTART:20241027T020000
RDATE:20250330T030000
TZOFFSETFROM:+0200
TZOFFSETTO:+0100
TZNAME:Europe/Berlin CET
END:STANDARD
BEGIN:STANDARD
DTSTART:20251026T020000
RDATE:20260329T030000
TZOFFSETFROM:+0200
TZOFFSETTO:+0100
TZNAME:Europe/Berlin CET
END:STANDARD
BEGIN:STANDARD
DTSTART:20261025T020000
RDATE:20270328T030000
TZOFFSETFROM:+0200
TZOFFSETTO:+0100
TZNAME:Europe/Berlin CET
END:STANDARD
BEGIN:STANDARD
DTSTART:20271031T020000
RDATE:20280326T030000
TZOFFSETFROM:+0200
TZOFFSETTO:+0100
TZNAME:Europe/Berlin CET
END:STANDARD
BEGIN:STANDARD
DTSTART:20281029T020000
RDATE:20290325T030000
TZOFFSETFROM:+0200
TZOFFSETTO:+0100
TZNAME:Europe/Berlin CET
END:STANDARD
BEGIN:STANDARD
DTSTART:20291028T020000
RDATE:20300331T030000
TZOFFSETFROM:+0200
TZOFFSETTO:+0100
TZNAME:Europe/Berlin CET
END:STANDARD
BEGIN:STANDARD
DTSTART:20301027T020000
RDATE:20310330T030000
TZOFFSETFROM:+0200
TZOFFSETTO:+0100
TZNAME:Europe/Berlin CET
END:STANDARD
BEGIN:STANDARD
DTSTART:20311026T020000
RDATE:20320328T030000
TZOFFSETFROM:+0200
TZOFFSETTO:+0100
TZNAME:Europe/Berlin CET
END:STANDARD
BEGIN:STANDARD
DTSTART:20321031T020000
RDATE:20330327T030000
TZOFFSETFROM:+0200
TZOFFSETTO:+0100
TZNAME:Europe/Berlin CET
END:STANDARD
BEGIN:STANDARD
DTSTART:20331030T020000
RDATE:20340326T030000
TZOFFSETFROM:+0200
TZOFFSETTO:+0100
TZNAME:Europe/Berlin CET
END:STANDARD
BEGIN:STANDARD
DTSTART:20341029T020000
RDATE:20350325T030000
TZOFFSETFROM:+0200
TZOFFSETTO:+0100
TZNAME:Europe/Berlin CET
END:STANDARD
BEGIN:STANDARD
DTSTART:20351028T020000
RDATE:20360330T030000
TZOFFSETFROM:+0200
TZOFFSETTO:+0100
TZNAME:Europe/Berlin CET
END:STANDARD
BEGIN:DAYLIGHT
DTSTART:20220928T000000
RDATE:20221030T020000
TZOFFSETFROM:+0100
TZOFFSETTO:+0200
TZNAME:Europe/Berlin CEST
END:DAYLIGHT
BEGIN:DAYLIGHT
DTSTART:20230326T030000
RDATE:20231029T020000
TZOFFSETFROM:+0100
TZOFFSETTO:+0200
TZNAME:Europe/Berlin CEST
END:DAYLIGHT
BEGIN:DAYLIGHT
DTSTART:20240331T030000
RDATE:20241027T020000
TZOFFSETFROM:+0100
TZOFFSETTO:+0200
TZNAME:Europe/Berlin CEST
END:DAYLIGHT
BEGIN:DAYLIGHT
DTSTART:20250330T030000
RDATE:20251026T020000
TZOFFSETFROM:+0100
TZOFFSETTO:+0200
TZNAME:Europe/Berlin CEST
END:DAYLIGHT
BEGIN:DAYLIGHT
DTSTART:20260329T030000
RDATE:20261025T020000
TZOFFSETFROM:+0100
TZOFFSETTO:+0200
TZNAME:Europe/Berlin CEST
END:DAYLIGHT
BEGIN:DAYLIGHT
DTSTART:20270328T030000
RDATE:20271031T020000
TZOFFSETFROM:+0100
TZOFFSETTO:+0200
TZNAME:Europe/Berlin CEST
END:DAYLIGHT
BEGIN:DAYLIGHT
DTSTART:20280326T030000
RDATE:20281029T020000
TZOFFSETFROM:+0100
TZOFFSETTO:+0200
TZNAME:Europe/Berlin CEST
END:DAYLIGHT
BEGIN:DAYLIGHT
DTSTART:20290325T030000
RDATE:20291028T020000
TZOFFSETFROM:+0100
TZOFFSETTO:+0200
TZNAME:Europe/Berlin CEST
END:DAYLIGHT
BEGIN:DAYLIGHT
DTSTART:20300331T030000
RDATE:20301027T020000
TZOFFSETFROM:+0100
TZOFFSETTO:+0200
TZNAME:Europe/Berlin CEST
END:DAYLIGHT
BEGIN:DAYLIGHT
DTSTART:20310330T030000
RDATE:20311026T020000
TZOFFSETFROM:+0100
TZOFFSETTO:+0200
TZNAME:Europe/Berlin CEST
END:DAYLIGHT
BEGIN:DAYLIGHT
DTSTART:20320328T030000
RDATE:20321031T020000
TZOFFSETFROM:+0100
TZOFFSETTO:+0200
TZNAME:Europe/Berlin CEST
END:DAYLIGHT
BEGIN:DAYLIGHT
DTSTART:20330327T030000
RDATE:20331030T020000
TZOFFSETFROM:+0100
TZOFFSETTO:+0200
TZNAME:Europe/Berlin CEST
END:DAYLIGHT
BEGIN:DAYLIGHT
DTSTART:20340326T030000
RDATE:20341029T020000
TZOFFSETFROM:+0100
TZOFFSETTO:+0200
TZNAME:Europe/Berlin CEST
END:DAYLIGHT
BEGIN:DAYLIGHT
DTSTART:20350325T030000
RDATE:20351028T020000
TZOFFSETFROM:+0100
TZOFFSETTO:+0200
TZNAME:Europe/Berlin CEST
END:DAYLIGHT
END:VTIMEZONE
BEGIN:VEVENT
UID:8cd77ef9da8081610b5b07928e8851c5
CATEGORIES:Fahrten der Kanuabteilung
CREATED:20230803T135714
SUMMARY:Alpenabschluss im Engadin - Ötz, Inn, Venter & Co
DESCRIPTION:<p>Der Alpenabschluss findet traditionell im Engadin (Ötz- und Inntal) stat
 t und wird in den letzten Jahre zusammen mit dem KSC Mannheim durchgeführt.
 </p><h2>Mögliche Bäche</h2><p>Ötz, Inn, Venter</p><h2>Schwierigkeitsbereich
 </h2><p>WW III-IV</p><h2>Berichte vergangener Touren</h2><ul><li><a rel="no
 opener noreferrer" href="index.php/kanuabteilung-berichte/401-2022-alpenabs
 chluss">&nbsp;2022-09-29 bis 2022-10-04 Alpenabschluss </a></li><li><a rel=
 "noopener noreferrer" href="index.php/kanuabteilung-berichte/396-2021-09-24
 -bis-26-alpenabschluss-im-engadin-und-oetztal">2021-09-24 bis 26 Alpenabsch
 luss im Engadin und Ötztal </a></li></ul><h2>Kontakt</h2><!-- START: Module
 s Anywhere --><div class="rapid_contact '">
  <form  id="rp_616026" method=
 "post" onSubmit="return rp_checkCaptcha('rp_616026');">

    
    
    <div
  class="rapid_contact_form" id="rapid_contact_form_rp_616026">
      <div c
 lass="input-group"><input class="rapid_contact form-control inputbox " type
 ="email" name="rp_email" id="rp_616026_email" size="33" value=""  placehold
 er="E-Mailadresse:"/></div><div class="input-group"><input class="rapid_con
 tact form-control inputbox" type="text" name="rp_subject" id="rp_616026_sub
 ject" size="33" value=""  placeholder="Betreff:"/></div><div class="input-g
 roup"><textarea class="rapid_contact form-control textarea" name="rp_messag
 e" id="rp_616026_message" cols="31" rows="4"  placeholder="Nachrichtentext:
 "></textarea></div><div class="input-group">
      <div id="rp_recaptcha" c
 lass="g-recaptcha g-recaptcha" data-sitekey="6LfyxiQqAAAAAIH0ef3jUhLEHn6J-p
 y2egQsjKxM" data-badge="bottomleft" data-size="invisible" data-tabindex="0"
  data-callback="" data-expired-callback="" data-error-callback=""></div>   
    <input type="hidden" name="rp_616026'_hasCaptcha" id="rp_616026_hasCaptc
 ha" value="true"/>
      </div><div class="input-group">
  <input class="ra
 pid_contact button btn btn-primary" type="submit" value="Senden"/>
</div>  
   </div>
  </form>
</div><!-- END: Modules Anywhere -->
X-ALT-DESC;FMTTYPE=text/html:<p>Der Alpenabschluss findet traditionell im Engadin (Ötz- und Inntal) stat
 t und wird in den letzten Jahre zusammen mit dem KSC Mannheim durchgeführt.
 </p><h2>Mögliche Bäche</h2><p>Ötz, Inn, Venter</p><h2>Schwierigkeitsbereich
 </h2><p>WW III-IV</p><h2>Berichte vergangener Touren</h2><ul><li><a rel="no
 opener noreferrer" href="https://segeln-lernen-heidelberg.de/index.php/kanu
 abteilung-berichte/401-2022-alpenabschluss">&nbsp;2022-09-29 bis 2022-10-04
  Alpenabschluss </a></li><li><a rel="noopener noreferrer" href="https://seg
 eln-lernen-heidelberg.de/index.php/kanuabteilung-berichte/396-2021-09-24-bi
 s-26-alpenabschluss-im-engadin-und-oetztal">2021-09-24 bis 26 Alpenabschlus
 s im Engadin und Ötztal </a></li></ul><h2>Kontakt</h2><!-- START: Modules A
 nywhere --><div class="rapid_contact '">
  <form  id="rp_616026" method="po
 st" onSubmit="return rp_checkCaptcha('rp_616026');">

    
    
    <div cl
 ass="rapid_contact_form" id="rapid_contact_form_rp_616026">
      <div clas
 s="input-group"><input class="rapid_contact form-control inputbox " type="e
 mail" name="rp_email" id="rp_616026_email" size="33" value=""  placeholder=
 "E-Mailadresse:"/></div><div class="input-group"><input class="rapid_contac
 t form-control inputbox" type="text" name="rp_subject" id="rp_616026_subjec
 t" size="33" value=""  placeholder="Betreff:"/></div><div class="input-grou
 p"><textarea class="rapid_contact form-control textarea" name="rp_message" 
 id="rp_616026_message" cols="31" rows="4"  placeholder="Nachrichtentext:"><
 /textarea></div><div class="input-group">
      <div id="rp_recaptcha" clas
 s="g-recaptcha g-recaptcha" data-sitekey="6LfyxiQqAAAAAIH0ef3jUhLEHn6J-py2e
 gQsjKxM" data-badge="bottomleft" data-size="invisible" data-tabindex="0" da
 ta-callback="" data-expired-callback="" data-error-callback=""></div>      
 <input type="hidden" name="rp_616026'_hasCaptcha" id="rp_616026_hasCaptcha"
  value="true"/>
      </div><div class="input-group">
  <input class="rapid
 _contact button btn btn-primary" type="submit" value="Senden"/>
</div>    <
 /div>
  </form>
</div><!-- END: Modules Anywhere -->
DTSTAMP:20260420T164744
DTSTART;TZID=Europe/Berlin;VALUE=DATE:20230929
DTEND;TZID=Europe/Berlin;VALUE=DATE:20231004
SEQUENCE:0
TRANSP:OPAQUE
END:VEVENT
END:VCALENDAR