BEGIN:VCALENDAR
VERSION:2.0
PRODID:-//jEvents 2.0 for Joomla//EN
CALSCALE:GREGORIAN
METHOD:PUBLISH
BEGIN:VTIMEZONE
TZID:Europe/Berlin
BEGIN:STANDARD
DTSTART:20251026T020000
RDATE:20260329T030000
TZOFFSETFROM:+0200
TZOFFSETTO:+0100
TZNAME:Europe/Berlin CET
END:STANDARD
BEGIN:STANDARD
DTSTART:20261025T020000
RDATE:20270328T030000
TZOFFSETFROM:+0200
TZOFFSETTO:+0100
TZNAME:Europe/Berlin CET
END:STANDARD
BEGIN:STANDARD
DTSTART:20271031T020000
RDATE:20280326T030000
TZOFFSETFROM:+0200
TZOFFSETTO:+0100
TZNAME:Europe/Berlin CET
END:STANDARD
BEGIN:STANDARD
DTSTART:20281029T020000
RDATE:20290325T030000
TZOFFSETFROM:+0200
TZOFFSETTO:+0100
TZNAME:Europe/Berlin CET
END:STANDARD
BEGIN:STANDARD
DTSTART:20291028T020000
RDATE:20300331T030000
TZOFFSETFROM:+0200
TZOFFSETTO:+0100
TZNAME:Europe/Berlin CET
END:STANDARD
BEGIN:STANDARD
DTSTART:20301027T020000
RDATE:20310330T030000
TZOFFSETFROM:+0200
TZOFFSETTO:+0100
TZNAME:Europe/Berlin CET
END:STANDARD
BEGIN:STANDARD
DTSTART:20311026T020000
RDATE:20320328T030000
TZOFFSETFROM:+0200
TZOFFSETTO:+0100
TZNAME:Europe/Berlin CET
END:STANDARD
BEGIN:STANDARD
DTSTART:20321031T020000
RDATE:20330327T030000
TZOFFSETFROM:+0200
TZOFFSETTO:+0100
TZNAME:Europe/Berlin CET
END:STANDARD
BEGIN:STANDARD
DTSTART:20331030T020000
RDATE:20340326T030000
TZOFFSETFROM:+0200
TZOFFSETTO:+0100
TZNAME:Europe/Berlin CET
END:STANDARD
BEGIN:STANDARD
DTSTART:20341029T020000
RDATE:20350325T030000
TZOFFSETFROM:+0200
TZOFFSETTO:+0100
TZNAME:Europe/Berlin CET
END:STANDARD
BEGIN:STANDARD
DTSTART:20351028T020000
RDATE:20360330T030000
TZOFFSETFROM:+0200
TZOFFSETTO:+0100
TZNAME:Europe/Berlin CET
END:STANDARD
BEGIN:DAYLIGHT
DTSTART:20250703T093000
RDATE:20251026T020000
TZOFFSETFROM:+0100
TZOFFSETTO:+0200
TZNAME:Europe/Berlin CEST
END:DAYLIGHT
BEGIN:DAYLIGHT
DTSTART:20260329T030000
RDATE:20261025T020000
TZOFFSETFROM:+0100
TZOFFSETTO:+0200
TZNAME:Europe/Berlin CEST
END:DAYLIGHT
BEGIN:DAYLIGHT
DTSTART:20270328T030000
RDATE:20271031T020000
TZOFFSETFROM:+0100
TZOFFSETTO:+0200
TZNAME:Europe/Berlin CEST
END:DAYLIGHT
BEGIN:DAYLIGHT
DTSTART:20280326T030000
RDATE:20281029T020000
TZOFFSETFROM:+0100
TZOFFSETTO:+0200
TZNAME:Europe/Berlin CEST
END:DAYLIGHT
BEGIN:DAYLIGHT
DTSTART:20290325T030000
RDATE:20291028T020000
TZOFFSETFROM:+0100
TZOFFSETTO:+0200
TZNAME:Europe/Berlin CEST
END:DAYLIGHT
BEGIN:DAYLIGHT
DTSTART:20300331T030000
RDATE:20301027T020000
TZOFFSETFROM:+0100
TZOFFSETTO:+0200
TZNAME:Europe/Berlin CEST
END:DAYLIGHT
BEGIN:DAYLIGHT
DTSTART:20310330T030000
RDATE:20311026T020000
TZOFFSETFROM:+0100
TZOFFSETTO:+0200
TZNAME:Europe/Berlin CEST
END:DAYLIGHT
BEGIN:DAYLIGHT
DTSTART:20320328T030000
RDATE:20321031T020000
TZOFFSETFROM:+0100
TZOFFSETTO:+0200
TZNAME:Europe/Berlin CEST
END:DAYLIGHT
BEGIN:DAYLIGHT
DTSTART:20330327T030000
RDATE:20331030T020000
TZOFFSETFROM:+0100
TZOFFSETTO:+0200
TZNAME:Europe/Berlin CEST
END:DAYLIGHT
BEGIN:DAYLIGHT
DTSTART:20340326T030000
RDATE:20341029T020000
TZOFFSETFROM:+0100
TZOFFSETTO:+0200
TZNAME:Europe/Berlin CEST
END:DAYLIGHT
BEGIN:DAYLIGHT
DTSTART:20350325T030000
RDATE:20351028T020000
TZOFFSETFROM:+0100
TZOFFSETTO:+0200
TZNAME:Europe/Berlin CEST
END:DAYLIGHT
END:VTIMEZONE
BEGIN:VEVENT
UID:b9329b3e704f727c679fca08ab269470
CATEGORIES:Warnmeldungen
CREATED:20260422T131256
SUMMARY:Sperrung des Neckars wegen eines Drachenbootrennens im Abschnitt Heidelberg
LOCATION:Heidelberg im Bereich Ne-km 23\,04 (Ernst-Walz-Brücke) und Ne-km 24\,20 (Th
 eodor-Heuss-Brücke)
DESCRIPTION:<p>Am Samstag 04.07.26 findet in Heidelberg Ne-km 23,04 (Ernst-Walz-Brücke)
  und Ne-km 24,20 (Theodor-Heuss-Brücke) ein Drachenbootcup statt. Die Schif
 ffahrt wird von 09:30 Uhr bis 11:30 Uhr, sowie von 12:30 Uhr bis 14:30 Uhr 
 und von 15:30 Uhr bis 17:30 Uhr gesperrt.</p><p>Wasserstraße: &nbsp;&nbsp;&
 nbsp;&nbsp;&nbsp;Neckar<br />Örtlichkeit: &nbsp;&nbsp;&nbsp;&nbsp;&nbsp;&nb
 sp;Fahrwasser Neckar<br />km von: &nbsp;&nbsp;&nbsp;&nbsp;&nbsp;&nbsp;&nbsp
 ;&nbsp;&nbsp;&nbsp;&nbsp;23,0 (49° 24.661' N 8°40.571' E)<br />km bis: &nbs
 p;&nbsp;&nbsp;&nbsp;&nbsp;&nbsp;&nbsp;&nbsp;&nbsp;&nbsp;&nbsp;24,2 (49° 24.
 721' N 8°41.556' E)<br /><br />Einschränkung: &nbsp;&nbsp;&nbsp;&nbsp;Sperr
 e<br />Zielgruppe: &nbsp;&nbsp;&nbsp;&nbsp;&nbsp;&nbsp;&nbsp;&nbsp;alle<br 
 />Richtung: &nbsp;&nbsp;&nbsp;&nbsp;&nbsp;&nbsp;&nbsp;&nbsp;&nbsp;&nbsp;all
 e Richtungen<br />Betroffener Bereich: ganz<br />gültig von: &nbsp;&nbsp;&n
 bsp;&nbsp;&nbsp;&nbsp;&nbsp;4. Jul. 2026 &nbsp;09:30 Uhr<br />gültig bis: &
 nbsp;&nbsp;&nbsp;&nbsp;&nbsp;&nbsp;&nbsp;4. Jul. 2026 &nbsp;11:30 Uhr<br />
 gültig von: &nbsp;&nbsp;&nbsp;&nbsp;&nbsp;&nbsp;&nbsp;4. Jul. 2026 &nbsp;12
 :30 Uhr<br />gültig bis: &nbsp;&nbsp;&nbsp;&nbsp;&nbsp;&nbsp;&nbsp;4. Jul. 
 2026 &nbsp;14:30 Uhr<br />gültig von: &nbsp;&nbsp;&nbsp;&nbsp;&nbsp;&nbsp;&
 nbsp;4. Jul. 2026 &nbsp;15:30 Uhr<br />gültig bis: &nbsp;&nbsp;&nbsp;&nbsp;
 &nbsp;&nbsp;&nbsp;4. Jul. 2026 &nbsp;17:30 Uhr</p><p>Quelle: <a href="https
 ://www.elwis.de/DE/dynamisch/Nfb/NfbDetailview:elwis_nfb_search:2026/1087">
 ELWIS</a></p>
DTSTAMP:20260423T223949
DTSTART;TZID=Europe/Berlin:20260704T093000
DTEND;TZID=Europe/Berlin:20260704T173000
SEQUENCE:0
TRANSP:OPAQUE
END:VEVENT
END:VCALENDAR