BEGIN:VCALENDAR
VERSION:2.0
PRODID:-//jEvents 2.0 for Joomla//EN
CALSCALE:GREGORIAN
METHOD:PUBLISH
BEGIN:VTIMEZONE
TZID:Europe/Berlin
BEGIN:STANDARD
DTSTART:20251026T020000
RDATE:20260329T030000
TZOFFSETFROM:+0200
TZOFFSETTO:+0100
TZNAME:Europe/Berlin CET
END:STANDARD
BEGIN:STANDARD
DTSTART:20261025T020000
RDATE:20270328T030000
TZOFFSETFROM:+0200
TZOFFSETTO:+0100
TZNAME:Europe/Berlin CET
END:STANDARD
BEGIN:STANDARD
DTSTART:20271031T020000
RDATE:20280326T030000
TZOFFSETFROM:+0200
TZOFFSETTO:+0100
TZNAME:Europe/Berlin CET
END:STANDARD
BEGIN:STANDARD
DTSTART:20281029T020000
RDATE:20290325T030000
TZOFFSETFROM:+0200
TZOFFSETTO:+0100
TZNAME:Europe/Berlin CET
END:STANDARD
BEGIN:STANDARD
DTSTART:20291028T020000
RDATE:20300331T030000
TZOFFSETFROM:+0200
TZOFFSETTO:+0100
TZNAME:Europe/Berlin CET
END:STANDARD
BEGIN:STANDARD
DTSTART:20301027T020000
RDATE:20310330T030000
TZOFFSETFROM:+0200
TZOFFSETTO:+0100
TZNAME:Europe/Berlin CET
END:STANDARD
BEGIN:STANDARD
DTSTART:20311026T020000
RDATE:20320328T030000
TZOFFSETFROM:+0200
TZOFFSETTO:+0100
TZNAME:Europe/Berlin CET
END:STANDARD
BEGIN:STANDARD
DTSTART:20321031T020000
RDATE:20330327T030000
TZOFFSETFROM:+0200
TZOFFSETTO:+0100
TZNAME:Europe/Berlin CET
END:STANDARD
BEGIN:STANDARD
DTSTART:20331030T020000
RDATE:20340326T030000
TZOFFSETFROM:+0200
TZOFFSETTO:+0100
TZNAME:Europe/Berlin CET
END:STANDARD
BEGIN:STANDARD
DTSTART:20341029T020000
RDATE:20350325T030000
TZOFFSETFROM:+0200
TZOFFSETTO:+0100
TZNAME:Europe/Berlin CET
END:STANDARD
BEGIN:STANDARD
DTSTART:20351028T020000
RDATE:20360330T030000
TZOFFSETFROM:+0200
TZOFFSETTO:+0100
TZNAME:Europe/Berlin CET
END:STANDARD
BEGIN:DAYLIGHT
DTSTART:20250904T213000
RDATE:20251026T020000
TZOFFSETFROM:+0100
TZOFFSETTO:+0200
TZNAME:Europe/Berlin CEST
END:DAYLIGHT
BEGIN:DAYLIGHT
DTSTART:20260329T030000
RDATE:20261025T020000
TZOFFSETFROM:+0100
TZOFFSETTO:+0200
TZNAME:Europe/Berlin CEST
END:DAYLIGHT
BEGIN:DAYLIGHT
DTSTART:20270328T030000
RDATE:20271031T020000
TZOFFSETFROM:+0100
TZOFFSETTO:+0200
TZNAME:Europe/Berlin CEST
END:DAYLIGHT
BEGIN:DAYLIGHT
DTSTART:20280326T030000
RDATE:20281029T020000
TZOFFSETFROM:+0100
TZOFFSETTO:+0200
TZNAME:Europe/Berlin CEST
END:DAYLIGHT
BEGIN:DAYLIGHT
DTSTART:20290325T030000
RDATE:20291028T020000
TZOFFSETFROM:+0100
TZOFFSETTO:+0200
TZNAME:Europe/Berlin CEST
END:DAYLIGHT
BEGIN:DAYLIGHT
DTSTART:20300331T030000
RDATE:20301027T020000
TZOFFSETFROM:+0100
TZOFFSETTO:+0200
TZNAME:Europe/Berlin CEST
END:DAYLIGHT
BEGIN:DAYLIGHT
DTSTART:20310330T030000
RDATE:20311026T020000
TZOFFSETFROM:+0100
TZOFFSETTO:+0200
TZNAME:Europe/Berlin CEST
END:DAYLIGHT
BEGIN:DAYLIGHT
DTSTART:20320328T030000
RDATE:20321031T020000
TZOFFSETFROM:+0100
TZOFFSETTO:+0200
TZNAME:Europe/Berlin CEST
END:DAYLIGHT
BEGIN:DAYLIGHT
DTSTART:20330327T030000
RDATE:20331030T020000
TZOFFSETFROM:+0100
TZOFFSETTO:+0200
TZNAME:Europe/Berlin CEST
END:DAYLIGHT
BEGIN:DAYLIGHT
DTSTART:20340326T030000
RDATE:20341029T020000
TZOFFSETFROM:+0100
TZOFFSETTO:+0200
TZNAME:Europe/Berlin CEST
END:DAYLIGHT
BEGIN:DAYLIGHT
DTSTART:20350325T030000
RDATE:20351028T020000
TZOFFSETFROM:+0100
TZOFFSETTO:+0200
TZNAME:Europe/Berlin CEST
END:DAYLIGHT
END:VTIMEZONE
BEGIN:VEVENT
UID:019cd4a840fe16e29658082b7e77e05f
CATEGORIES:Warnmeldungen
CREATED:20260422T143057
SUMMARY:Sperrung des Neckars wegen eines Feuerwerks (Schlossbeleuchtung)
LOCATION:Heidelberg im Bereich Ne-km 23\,0 (Ernst-Walz-Brücke) und Ne-km 25\,8 (Theo
 dor-Heuss-Brücke)
DESCRIPTION:Auf Grund eines Feuerwerks in Heidelberg ist die Schifffahrt von Ne-km 23,0
  bis Ne-km 25,8 in der Zeit von 21:30 Uhr bis 23:00 Uhr gesperrt.  \nWasser
 straße:      Neckar\nÖrtlichkeit:       Fahrwasser Neckar\nkm von:         
    23,0 (49° 24.661' N 8°40.571' E)\nkm bis:            25,8 (49° 24.850' N
  8°42.859' E)\n\nEinschränkung:     Sperre\nZielgruppe:         alle\nRicht
 ung:           alle Richtungen\nBetroffener Bereich: ganz\ngültig von:     
    5. Sep. 2026  21:30 Uhr\ngültig bis:        5. Sep. 2026  23:00 Uhr\nQue
 lle: ELWIS (https://www.elwis.de/DE/dynamisch/Nfb/NfbDetailview:elwis_nfb_s
 earch:2026/1091)\n
X-ALT-DESC;FMTTYPE=text/html:<p>Auf Grund eines Feuerwerks in Heidelberg ist die Schifffahrt von Ne-km 2
 3,0 bis Ne-km 25,8 in der Zeit von 21:30 Uhr bis 23:00 Uhr gesperrt.&nbsp;&
 nbsp;</p><p>Wasserstraße: &nbsp;&nbsp;&nbsp;&nbsp;&nbsp;Neckar<br />Örtlich
 keit: &nbsp;&nbsp;&nbsp;&nbsp;&nbsp;&nbsp;Fahrwasser Neckar<br />km von: &n
 bsp;&nbsp;&nbsp;&nbsp;&nbsp;&nbsp;&nbsp;&nbsp;&nbsp;&nbsp;&nbsp;23,0 (49° 2
 4.661' N 8°40.571' E)<br />km bis: &nbsp;&nbsp;&nbsp;&nbsp;&nbsp;&nbsp;&nbs
 p;&nbsp;&nbsp;&nbsp;&nbsp;25,8 (49° 24.850' N 8°42.859' E)<br /><br />Einsc
 hränkung: &nbsp;&nbsp;&nbsp;&nbsp;Sperre<br />Zielgruppe: &nbsp;&nbsp;&nbsp
 ;&nbsp;&nbsp;&nbsp;&nbsp;&nbsp;alle<br />Richtung: &nbsp;&nbsp;&nbsp;&nbsp;
 &nbsp;&nbsp;&nbsp;&nbsp;&nbsp;&nbsp;alle Richtungen<br />Betroffener Bereic
 h: ganz<br />gültig von: &nbsp;&nbsp;&nbsp;&nbsp;&nbsp;&nbsp;&nbsp;5. Sep. 
 2026 &nbsp;21:30 Uhr<br />gültig bis: &nbsp;&nbsp;&nbsp;&nbsp;&nbsp;&nbsp;&
 nbsp;5. Sep. 2026 &nbsp;23:00 Uhr</p><p>Quelle: <a href="https://www.elwis.
 de/DE/dynamisch/Nfb/NfbDetailview:elwis_nfb_search:2026/1091">ELWIS</a></p>
DTSTAMP:20260423T204112
DTSTART;TZID=Europe/Berlin:20260905T213000
DTEND;TZID=Europe/Berlin:20260905T230000
SEQUENCE:0
TRANSP:OPAQUE
END:VEVENT
END:VCALENDAR